BEGIN:VCALENDAR
PRODID:-//PUBBLE//agenda//NL
VERSION:2.0
METHOD:PUBLISH
BEGIN:VEVENT
DTSTART:20260427T083000Z
DTEND:20260427T163000Z
DTSTAMP:20260420T123320Z
UID:2bc78384-f0d6-497e-ba0b-7cfab663f4e2
CREATED:20260420T123320Z
NAME:Koningsdag 2026 in Nootdorp telstar-online.nl
X-WR-CALNAME:Koningsdag 2026 in Nootdorp
X-ALT-DESC;FMTTYPE=text/html:<a href='/agenda/2026/4/27/koningsdag-2026-in-nootdorp-168633'>/agenda/2026/4/27/koningsdag-2026-in-nootdorp-168633</a> || <p><strong>Nootdorp maakt zich op voor gezellige Koningsdag 2026</strong></p><p>Dit jaar zal Koningsdag plaatsvinden op maandag 27 april op het speciale evenemententerrein rond de speeltuin aan de Wolverlei in de wijk “Achter het Raadhuis”. We pakken weer uit met een gevarieerd programma voor jong en oud!</p><p>De bekende onderdelen van de Nootdorpse Koningsdag zullen niet ontbreken: de kinderkleedjesmarkt, springkussens voor klein en groot, Pannavoetbaltoernooi, eten en drinken, optredens door Harmonie Nootdorp en Shantykoor “Schiehaven”. Ook Scouting Nootdorp zal weer van de partij zijn.&nbsp;</p><p>Als hoofdattractie hebben we dit jaar op de Wolverlei in een tent twee F1 Redbull Race Simulatoren, waarmee tegen elkaar kan worden geraced. Er wordt over de dag heen een kampioenschap gereden in verschillende leeftijdsklassen, dus dat wordt echt spannend! Wie is de best F1 coureurs van Nootdorp in zijn of haar klasse?</p><p>Voor het hele programma kun je het beste op onze website kijken : <a href="//www.ovnootdorp.nl"><strong>www.ovnootdorp.nl</strong></a></p><p><strong><em>Kom gezellig langs op het evenemententerrein aan de Wolverlei en de Pinksterbloem.</em></strong></p><p><strong><em>Het liefst lopend of met de fiets. Met de auto is het terrein niet goed bereikbaar wat betreft parkeren!</em></strong></p>
DESCRIPTION:<a href='/agenda/2026/4/27/koningsdag-2026-in-nootdorp-168633'>/agenda/2026/4/27/koningsdag-2026-in-nootdorp-168633</a> || <p><strong>Nootdorp maakt zich op voor gezellige Koningsdag 2026</strong></p><p>Dit jaar zal Koningsdag plaatsvinden op maandag 27 april op het speciale evenemententerrein rond de speeltuin aan de Wolverlei in de wijk “Achter het Raadhuis”. We pakken weer uit met een gevarieerd programma voor jong en oud!</p><p>De bekende onderdelen van de Nootdorpse Koningsdag zullen niet ontbreken: de kinderkleedjesmarkt, springkussens voor klein en groot, Pannavoetbaltoernooi, eten en drinken, optredens door Harmonie Nootdorp en Shantykoor “Schiehaven”. Ook Scouting Nootdorp zal weer van de partij zijn.&nbsp;</p><p>Als hoofdattractie hebben we dit jaar op de Wolverlei in een tent twee F1 Redbull Race Simulatoren, waarmee tegen elkaar kan worden geraced. Er wordt over de dag heen een kampioenschap gereden in verschillende leeftijdsklassen, dus dat wordt echt spannend! Wie is de best F1 coureurs van Nootdorp in zijn of haar klasse?</p><p>Voor het hele programma kun je het beste op onze website kijken : <a href="//www.ovnootdorp.nl"><strong>www.ovnootdorp.nl</strong></a></p><p><strong><em>Kom gezellig langs op het evenemententerrein aan de Wolverlei en de Pinksterbloem.</em></strong></p><p><strong><em>Het liefst lopend of met de fiets. Met de auto is het terrein niet goed bereikbaar wat betreft parkeren!</em></strong></p>
LAST-MODIFIED:20260420T123320Z
LOCATION: Speeltuin Wolverlei | Wolverlei  Nootdorp
SEQUENCE:0
STATUS:CONFIRMED
SUMMARY:Koningsdag 2026 in Nootdorp
TRANSP:OPAQUE
END:VEVENT
END:VCALENDAR
