BEGIN:VCALENDAR
PRODID:-//PUBBLE//agenda//NL
VERSION:2.0
METHOD:PUBLISH
BEGIN:VEVENT
DTSTART:20260319T080000Z
DTEND:20260319T100000Z
DTSTAMP:20260424T111708Z
UID:6f1033a2-44df-47d2-9961-703ad88b31d0
CREATED:20260424T111708Z
NAME:Open Dag OBS De Meander in Delfgauw telstar-online.nl
X-WR-CALNAME:Open Dag OBS De Meander in Delfgauw
X-ALT-DESC;FMTTYPE=text/html:<a href='/agenda/2026/3/19/open-dag-obs-de-meander-in-delfgauw-167569'>/agenda/2026/3/19/open-dag-obs-de-meander-in-delfgauw-167569</a> || <p>Van 16 t/m 20 maart vieren we de Week van het Openbaar Onderwijs. Op donderdag 19 maart opent OBS De Meander in Delfgauw haar deuren voor ouders, buurtbewoners en belangstellenden. U bent van harte welkom van 10.00-12.00 uur voor een rondleiding door de school. Kinderen tot 4 jaar (en hun ouders) mogen aanschuiven in de instroomgroep als ze dat leuk vinden. Kom binnen, kijk rond en ervaar zelf wat ons openbaar onderwijs zo bijzonder maakt: toegankelijk, betrokken en voor iedereen. </p>
DESCRIPTION:<a href='/agenda/2026/3/19/open-dag-obs-de-meander-in-delfgauw-167569'>/agenda/2026/3/19/open-dag-obs-de-meander-in-delfgauw-167569</a> || <p>Van 16 t/m 20 maart vieren we de Week van het Openbaar Onderwijs. Op donderdag 19 maart opent OBS De Meander in Delfgauw haar deuren voor ouders, buurtbewoners en belangstellenden. U bent van harte welkom van 10.00-12.00 uur voor een rondleiding door de school. Kinderen tot 4 jaar (en hun ouders) mogen aanschuiven in de instroomgroep als ze dat leuk vinden. Kom binnen, kijk rond en ervaar zelf wat ons openbaar onderwijs zo bijzonder maakt: toegankelijk, betrokken en voor iedereen. </p>
LAST-MODIFIED:20260424T111708Z
LOCATION: OBS De Meander | Florijnstraat 3 Delfgauw
SEQUENCE:0
STATUS:CONFIRMED
SUMMARY:Open Dag OBS De Meander in Delfgauw
TRANSP:OPAQUE
END:VEVENT
END:VCALENDAR
