BEGIN:VCALENDAR
PRODID:-//PUBBLE//agenda//NL
VERSION:2.0
METHOD:PUBLISH
BEGIN:VEVENT
DTSTART:20210313T073000Z
DTEND:20210313T083000Z
DTSTAMP:20260423T143607Z
UID:0c0242e4-bf84-4174-8a26-19aa84fbb243
CREATED:20260423T143607Z
NAME:Spookies training telstar-online.nl
X-WR-CALNAME:Spookies training
X-ALT-DESC;FMTTYPE=text/html:<a href='/agenda/2021/3/13/spookies-training-108179'>/agenda/2021/3/13/spookies-training-108179</a> || <p>Ben jij 3,5 - 6 jaar en wil je op zaterdagochtend lekker een uurtje buiten bewegen? Kom dan een keer kijken bij een training van de Spookies van Avanti/Post Makelaardij. </p><p></p><p>De Spookies maken elke week een uurtje lol met andere jongens en meisjes tijdens verschillende leuke spelletjes en korfbaloefeningen. Naast leren gooien, vangen en schieten op de korf is er veel aandacht voor samenwerken, sociale interactie en voor de motorische ontwikkeling van de kinderen. </p><p></p><p>Avanti/Post Makelaardij volgt het coronaprotocol van de NOC/NSF. Wij verzoeken u dan ook om niet onaangemeld op de training te komen. U kunt zich aanmelden (of meer informatie krijgen over de training) door te mailen naar spookies@avantikorfbal.nl</p><p></p>
DESCRIPTION:<a href='/agenda/2021/3/13/spookies-training-108179'>/agenda/2021/3/13/spookies-training-108179</a> || <p>Ben jij 3,5 - 6 jaar en wil je op zaterdagochtend lekker een uurtje buiten bewegen? Kom dan een keer kijken bij een training van de Spookies van Avanti/Post Makelaardij. </p><p></p><p>De Spookies maken elke week een uurtje lol met andere jongens en meisjes tijdens verschillende leuke spelletjes en korfbaloefeningen. Naast leren gooien, vangen en schieten op de korf is er veel aandacht voor samenwerken, sociale interactie en voor de motorische ontwikkeling van de kinderen. </p><p></p><p>Avanti/Post Makelaardij volgt het coronaprotocol van de NOC/NSF. Wij verzoeken u dan ook om niet onaangemeld op de training te komen. U kunt zich aanmelden (of meer informatie krijgen over de training) door te mailen naar spookies@avantikorfbal.nl</p><p></p>
LAST-MODIFIED:20260423T143607Z
LOCATION: Korfbalclub Avanti/Post Makelaardij | Sportlaan 1 Pijnacker
SEQUENCE:0
STATUS:CONFIRMED
SUMMARY:Spookies training
TRANSP:OPAQUE
END:VEVENT
END:VCALENDAR
