BEGIN:VCALENDAR
PRODID:-//PUBBLE//agenda//NL
VERSION:2.0
METHOD:PUBLISH
BEGIN:VEVENT
DTSTART:20210317T080000Z
DTEND:20210317T093000Z
DTSTAMP:20260423T143644Z
UID:78091fbd-ae27-4548-8f64-a1d22beb9151
CREATED:20260423T143644Z
NAME:Sportief wandelen telstar-online.nl
X-WR-CALNAME:Sportief wandelen
X-ALT-DESC;FMTTYPE=text/html:<a href='/agenda/2021/3/17/sportief-wandelen-106998'>/agenda/2021/3/17/sportief-wandelen-106998</a> || <p>Nieuw: Sportief wandelen in Nootdorp en Pijnacker</p><p>Voor iedereen die in deze coronatijd even wil ontspannen door een paar uur in de natuur te wandelen en lekker sportief bezig te zijn; dit is je kans!</p><p>Sportief wandelen is anders dan gewoon een stukje wandelen. Het is voor iedereen die aan fitheid wil werken de ideale activiteit. Sportief wandelen is wandelen met oefeningen in verschillende tempo’s waarbij altijd nog adem overblijft om een gesprekje te voeren. Want wandelen blijft een sociaal gebeuren.</p><p>Het enige wat je nodig hebt is wat motivatie en tijd, een paar goede (wandel)schoenen en lekker zittende kleding, waarin je je goed kunt bewegen.</p><p>Wil je meer weten of je aanmelden voor een gratis proefles? Ga dan naar: https://www.stichtingsportiefwandelennootdorp.nl/</p><p>Startlocaties en tijden:</p><p>Pijnacker:</p><p>Dinsdagochtend van 10:30 - 12:00 uur (vanaf 3 november 2020)</p><p>De Soete Suikerbol, Ade 23 te Pijnacker. (wijk park Tolhek)</p><p>Nootdorp</p><p>Dinsdagavond van 19.30 - 21.00 uur</p><p>Woensdagochtend van 10.00 - 11.30 uur (vanaf 4 november 2020)</p><p>Vrijdagochtend van 10.00 - 11.30 uur</p><p>P-plaats Nootdorpse ijsclub, Oudeweg 74 te Nootdorp</p>
DESCRIPTION:<a href='/agenda/2021/3/17/sportief-wandelen-106998'>/agenda/2021/3/17/sportief-wandelen-106998</a> || <p>Nieuw: Sportief wandelen in Nootdorp en Pijnacker</p><p>Voor iedereen die in deze coronatijd even wil ontspannen door een paar uur in de natuur te wandelen en lekker sportief bezig te zijn; dit is je kans!</p><p>Sportief wandelen is anders dan gewoon een stukje wandelen. Het is voor iedereen die aan fitheid wil werken de ideale activiteit. Sportief wandelen is wandelen met oefeningen in verschillende tempo’s waarbij altijd nog adem overblijft om een gesprekje te voeren. Want wandelen blijft een sociaal gebeuren.</p><p>Het enige wat je nodig hebt is wat motivatie en tijd, een paar goede (wandel)schoenen en lekker zittende kleding, waarin je je goed kunt bewegen.</p><p>Wil je meer weten of je aanmelden voor een gratis proefles? Ga dan naar: https://www.stichtingsportiefwandelennootdorp.nl/</p><p>Startlocaties en tijden:</p><p>Pijnacker:</p><p>Dinsdagochtend van 10:30 - 12:00 uur (vanaf 3 november 2020)</p><p>De Soete Suikerbol, Ade 23 te Pijnacker. (wijk park Tolhek)</p><p>Nootdorp</p><p>Dinsdagavond van 19.30 - 21.00 uur</p><p>Woensdagochtend van 10.00 - 11.30 uur (vanaf 4 november 2020)</p><p>Vrijdagochtend van 10.00 - 11.30 uur</p><p>P-plaats Nootdorpse ijsclub, Oudeweg 74 te Nootdorp</p>
LAST-MODIFIED:20260423T143644Z
LOCATION: Nootdorpse IJsclub | Oudeweg 74 Nootdorp
SEQUENCE:0
STATUS:CONFIRMED
SUMMARY:Sportief wandelen
TRANSP:OPAQUE
END:VEVENT
END:VCALENDAR
