BEGIN:VCALENDAR
PRODID:-//PUBBLE//agenda//NL
VERSION:2.0
METHOD:PUBLISH
BEGIN:VEVENT
DTSTART:20201208T103000Z
DTEND:20201208T130000Z
DTSTAMP:20260423T233454Z
UID:74121dca-8ee9-4e1a-8b32-9f7c3eb1fe62
CREATED:20260423T233454Z
NAME: Tai chi en qi gong telstar-online.nl
X-WR-CALNAME: Tai chi en qi gong
X-ALT-DESC;FMTTYPE=text/html:<a href='/agenda/2020/12/8/tai-chi-en-qi-gong-105388'>/agenda/2020/12/8/tai-chi-en-qi-gong-105388</a> || <p>Rustig bewegen en gezond blijven voor alle leeftijden. Tai chi is zeer geschikt voor senioren.</p><p>Ervaar d.m.v. een gratis proefles wat tai chi en qigong voor u kan betekenen.</p><p>Informatie op www.yinyang-taichi.nl of bel met Nel van Biezen 0618030369 </p>
DESCRIPTION:<a href='/agenda/2020/12/8/tai-chi-en-qi-gong-105388'>/agenda/2020/12/8/tai-chi-en-qi-gong-105388</a> || <p>Rustig bewegen en gezond blijven voor alle leeftijden. Tai chi is zeer geschikt voor senioren.</p><p>Ervaar d.m.v. een gratis proefles wat tai chi en qigong voor u kan betekenen.</p><p>Informatie op www.yinyang-taichi.nl of bel met Nel van Biezen 0618030369 </p>
LAST-MODIFIED:20260423T233454Z
LOCATION: CulturA & Zo | Dorpsstraat 7 Nootdorp
SEQUENCE:0
STATUS:CONFIRMED
SUMMARY: Tai chi en qi gong
TRANSP:OPAQUE
END:VEVENT
END:VCALENDAR
