BEGIN:VCALENDAR
PRODID:-//PUBBLE//agenda//NL
VERSION:2.0
METHOD:PUBLISH
BEGIN:VEVENT
DTSTART:20210316T100000Z
DTEND:20210316T130000Z
DTSTAMP:20260423T145422Z
UID:98d11668-99fa-4c89-a97f-e973858405eb
CREATED:20260423T145422Z
NAME:Tai chi en qigong lessen telstar-online.nl
X-WR-CALNAME:Tai chi en qigong lessen
X-ALT-DESC;FMTTYPE=text/html:<a href='/agenda/2021/3/16/tai-chi-en-qigong-lessen-105119'>/agenda/2021/3/16/tai-chi-en-qigong-lessen-105119</a> || <p>Tai chi- en qigongles in Nootdorp</p><p>Leer te bewegen als stromend water..... </p><p>De lessen voor tai chi/qigong worden gegeven in CulturA &amp; Zo, Dorpsstraat 7, 2631 CR Nootdorp. Er is op dinsdagmiddag van 12.30-13.30 uur en van 14.00-15.00 uur les (beginners). Nel van Biezen geeft steeds een serie van tien lessen, die 90 euro kost. Je kunt ook instromen tijdens een serie en betaalt dan de resterende lessen. </p><p>Je kunt je aanmelden voor een gratis proefles op nel.van.biezen@hetnet.nl of bel naar 0618030369 </p><p>Kijk voor meer informatie op de website: www.yinyang-taichi.nl)</p><p></p><p></p>
DESCRIPTION:<a href='/agenda/2021/3/16/tai-chi-en-qigong-lessen-105119'>/agenda/2021/3/16/tai-chi-en-qigong-lessen-105119</a> || <p>Tai chi- en qigongles in Nootdorp</p><p>Leer te bewegen als stromend water..... </p><p>De lessen voor tai chi/qigong worden gegeven in CulturA &amp; Zo, Dorpsstraat 7, 2631 CR Nootdorp. Er is op dinsdagmiddag van 12.30-13.30 uur en van 14.00-15.00 uur les (beginners). Nel van Biezen geeft steeds een serie van tien lessen, die 90 euro kost. Je kunt ook instromen tijdens een serie en betaalt dan de resterende lessen. </p><p>Je kunt je aanmelden voor een gratis proefles op nel.van.biezen@hetnet.nl of bel naar 0618030369 </p><p>Kijk voor meer informatie op de website: www.yinyang-taichi.nl)</p><p></p><p></p>
LAST-MODIFIED:20260423T145422Z
LOCATION: CulturA & Zo | Dorpsstraat 7 Nootdorp
SEQUENCE:0
STATUS:CONFIRMED
SUMMARY:Tai chi en qigong lessen
TRANSP:OPAQUE
END:VEVENT
END:VCALENDAR
